BEGIN:VCALENDAR
VERSION:2.0
PRODID:-//Ján Košturiak - ECPv6.15.20//NONSGML v1.0//EN
CALSCALE:GREGORIAN
METHOD:PUBLISH
X-ORIGINAL-URL:https://www.kosturiak.com
X-WR-CALDESC:Udalosti pre Ján Košturiak
REFRESH-INTERVAL;VALUE=DURATION:PT1H
X-Robots-Tag:noindex
X-PUBLISHED-TTL:PT1H
BEGIN:VTIMEZONE
TZID:Europe/Helsinki
BEGIN:DAYLIGHT
TZOFFSETFROM:+0200
TZOFFSETTO:+0300
TZNAME:EEST
DTSTART:20160327T010000
END:DAYLIGHT
BEGIN:STANDARD
TZOFFSETFROM:+0300
TZOFFSETTO:+0200
TZNAME:EET
DTSTART:20161030T010000
END:STANDARD
BEGIN:DAYLIGHT
TZOFFSETFROM:+0200
TZOFFSETTO:+0300
TZNAME:EEST
DTSTART:20170326T010000
END:DAYLIGHT
BEGIN:STANDARD
TZOFFSETFROM:+0300
TZOFFSETTO:+0200
TZNAME:EET
DTSTART:20171029T010000
END:STANDARD
BEGIN:DAYLIGHT
TZOFFSETFROM:+0200
TZOFFSETTO:+0300
TZNAME:EEST
DTSTART:20180325T010000
END:DAYLIGHT
BEGIN:STANDARD
TZOFFSETFROM:+0300
TZOFFSETTO:+0200
TZNAME:EET
DTSTART:20181028T010000
END:STANDARD
END:VTIMEZONE
BEGIN:VEVENT
DTSTART;TZID=Europe/Helsinki:20170306T123000
DTEND;TZID=Europe/Helsinki:20170306T170000
DTSTAMP:20260426T002653
CREATED:20161218T083537Z
LAST-MODIFIED:20170102T131520Z
UID:4503-1488803400-1488819600@www.kosturiak.com
SUMMARY:Akadémia Dobrého pastiera
DESCRIPTION:Tento cyklus seminárov má dva hlavné ciele: \n\nPomôcť podnikateľom v ich podnikaní a živote\nPrepojiť podnikateľov s OZ Dobrý pastier a vzájomne si pomáhať\n\nCena seminára: dobrovoľná (doporučená 30 euro/ účastník) \nCelý výťažok z týchto seminárov je venovaný na podporu činnosti OZ Dobrý pastier\, Kláštor pod Znievom \nZačíname 6.marca 2017 a pokračujeme každý prvý pondelok v mesiaci. \nProgram \n12:30 – 14:00 \nPrednáška – úvod do problematiky \n14:00 – 14:30 Prestávka \n14:30 – 16:30 Praktické príklady zo života\, zdieľanie vlastných skúseností\, diskusia a plány na využitie vo vlastnom podnikaní a v živote \n17:00 – Svätá omša \nTémy jednotlivých stretnutí: \n\nAké zmeny prichádzajú do sveta podnikania aké budú ich následky na naše firmy a životy? Ako sledovať\, vyhodnocovať zmeny a trendy a využiť ich ako príležitosť?\nAko začať? Začať? Ako začať podnikať\, robiť to\, na čo máme talent od Boha\, baví nás to a dáva nám to zmysel?\nAko porozumieť sebe samému? Kto som? Čo chcem a čo nechcem? Kam kráčam a prečo?\nAko vytvoriť niečo výnimočné vo svete nadbytku? Hľadanie príležitostí na to\, aby sme boli užitoční\, inovácie a zlepšovanie života.\nHľadanie vlastnej cesty. Ako objavovať svoju vlastnú cestu? Stratégia prvého kroku a objavovanie svojho povolania na svete.\nPomaly ďalej zájdeš. Ako vymeniť hodiny za kompas\, pracovať menej a byť výkonnejší\, nenáhliť a nestresovať sa\, nereagovať na všetky stimuly okolo nás\, ale pomaly kráčať po správnej ceste.\nPodnikanie a rodina. Ako prepojiť podnikanie a rodinu tak\, aby sme mohli zdravo žiť? Aké sú naše role a priority v živote a ako ich môžeme zvládnuť tak\, aby bol náš život pokojný a naplnený?\nPád ako šanca. Ako využívať pády\, chyby a zlyhania na posilnenie a poučenie? Antikrehkosť a reziliencia\, čerpanie sily z kríz a problémov\, ktoré prináša život. Konflikt\, ktorý nás posúva ďalej.\nPodnikanie s Ježišom Kristom. Podnikanie v súlade s kresťanskými princípmi. Odolávanie pokušeniam rýchlych a jednoduchých ciest. Ježiš ako tichý spoločník vo firme.\nHľadanie zmyslu a motivácie. Hľadanie vyššieho zmyslu v tom\, čo robíme a žijeme\, ako základný motivačný faktor. Ako prijať a mať rád ľudí\, s ktorými spolupracujeme?\nSlušná firma. Ako vytvoriť slušnú firmu\, ktorá neslúži iba zarábaniu peňazí\, ale aj svojim spolupracovníkom a spoločenstvu? Pravidlá slušnej firmy a ich uvádzanie do života.\nPeniaze v rukách kresťana. Peniaze v živote a podnikaní ako prostriedok\, na konanie dobrých vecí\, nie ako cieľ. Miernosť a správne používanie peňazí.\nMeditácia\, modlitba a ticho. Ako byť sám so sebou a hľadať Boha vo svojom vnútri. Rozlišovanie prameňov Ducha svätého\, z ktorých čerpáme silu a zakalených prameňov\, ktoré nás vyčerpávajú.\nVidieť Krista v druhom človeku. Milosrdenstvo\, viera\, nádej a láska ako základné princípy podnikania a života.\n\nĎalšie témy budú vznikať podľa požiadaviek účastníkov. \nPrihlášky: \nMilena Košturiaková\, milena.kosturiakova@gmail.com\, Tel.: 0905 283 381 \nViac informácií:  \nJán Košturiak\, kostur@ipaslovakia.sk\, www.kosturiak.com\, Tel.: 0905 500 054 \nAdresa organizátora: OZ Dobrý Pastier\, Gymnaziálna 162\, 038 43 Kláštor pod Znievom \nOdborný sprievodca programom:  \nJán Košturiak\, žije vo Varíne\, s manželkou Milenou majú deti Janka\, Lucku a Zuzku\, spoluzakladateľ firmy IPA Slovakia a Podnikateľskej univerzity. Spolupracuje s OZ Dobrý pastier\, s mnohými podnikmi a podnikateľmi. Autor niekoľkých kníh o inováciách\, podnikaní a živote. \nHostia: \nSprievodca programom\, Ján Košturiak\, si bude na niektoré semináre pozývať hostí podľa jednotlivých tématických okruhov. Budú medzi nimi napr. Vladimír Maslák\, OZ Dobrý Pastier\, Štefan Súkeník\, Kinekus\, Juraj Habovštiak\, MTS Krivá\, Ľubomír Klieštik\, Kamenárstvo Klieštik\, Miroslav Saniga\, SAV\, Bernard Mišovič\, SJ\, Juraj Jordán Dovala\, husitský biskup a spisovateľ\, Marián Kolník\, CIRE Consulting\, Mário Tomášik\, Spoločenstvo pri Dóme svätého Martina\, Anna Húščavová\, Romana Machová a iní.
URL:https://www.kosturiak.com/event/akademia-dobreho-pastiera/
LOCATION:OZ Dobrý pastier\, Kláštor pod Znievom
ATTACH;FMTTYPE=image/jpeg:https://www.kosturiak.com/wp-content/uploads/2116/12/FullSizeRender.jpeg
END:VEVENT
END:VCALENDAR