BEGIN:VCALENDAR
VERSION:2.0
PRODID:-//Ján Košturiak - ECPv6.15.20//NONSGML v1.0//EN
CALSCALE:GREGORIAN
METHOD:PUBLISH
X-ORIGINAL-URL:https://www.kosturiak.com
X-WR-CALDESC:Udalosti pre Ján Košturiak
REFRESH-INTERVAL;VALUE=DURATION:PT1H
X-Robots-Tag:noindex
X-PUBLISHED-TTL:PT1H
BEGIN:VTIMEZONE
TZID:Europe/Helsinki
BEGIN:DAYLIGHT
TZOFFSETFROM:+0200
TZOFFSETTO:+0300
TZNAME:EEST
DTSTART:20150329T010000
END:DAYLIGHT
BEGIN:STANDARD
TZOFFSETFROM:+0300
TZOFFSETTO:+0200
TZNAME:EET
DTSTART:20151025T010000
END:STANDARD
BEGIN:DAYLIGHT
TZOFFSETFROM:+0200
TZOFFSETTO:+0300
TZNAME:EEST
DTSTART:20160327T010000
END:DAYLIGHT
BEGIN:STANDARD
TZOFFSETFROM:+0300
TZOFFSETTO:+0200
TZNAME:EET
DTSTART:20161030T010000
END:STANDARD
BEGIN:DAYLIGHT
TZOFFSETFROM:+0200
TZOFFSETTO:+0300
TZNAME:EEST
DTSTART:20170326T010000
END:DAYLIGHT
BEGIN:STANDARD
TZOFFSETFROM:+0300
TZOFFSETTO:+0200
TZNAME:EET
DTSTART:20171029T010000
END:STANDARD
END:VTIMEZONE
BEGIN:VEVENT
DTSTART;VALUE=DATE:20161123
DTEND;VALUE=DATE:20161124
DTSTAMP:20260425T191905
CREATED:20160920T083427Z
LAST-MODIFIED:20160920T083458Z
UID:3804-1479859200-1479945599@www.kosturiak.com
SUMMARY:Inovácie podnikateľských modelov
DESCRIPTION:Seminár s Norbertom Brathom\, Milenom Zeleným a Jánom Košturiakom \n\nTrendy na trhu a ich vplyv na podnikateľské modely\nČo sa zásadné mení v súčasných podnikateľských modeloch?\nAké budú podnikateľské modely v budúcnosti?\nAko úspešne realizovať potrebné zmeny?
URL:https://www.kosturiak.com/event/inovacie-podnikatelskych-modelov/
LOCATION:Embraco\, Spisšká Nová Ves
END:VEVENT
END:VCALENDAR